BEGIN:VCALENDAR
VERSION:2.0
PRODID:-//Foobar Corporation//NONSGML Foobar//EN
METHOD:REQUEST
BEGIN:VEVENT
UID:20200301T152918-348579832-example.com
DTSTAMP:20200301T152918
DTSTART:20200303T000000
DTEND:20200303T000000
SUMMARY: DANCE FIT
LOCATION: 
DESCRIPTION: LADIES - LADIES - LADIES, Dance fit is coming to town. Ever wondered what could be better than running and the normal boring old exercise - come along and try shaking a move in &quot;DANCE FIT&quot; classes on Tuesday the 3rd of March from 5 - 6pm at the Community Hall. Further information please call Lucresia Willett on 4056 0013 or call into Gurriny at Workshop St.

END:VEVENT
END:VCALENDAR
